Workbook

Sheet 　　　　　　入力　　　　　　
A1: 福岡高文連合唱部門 参加申し込み入力シート
A4: 黄色 | B4: のセルに必要事項を入力してください。
A6: １）年度
A8: ２）大会（どちらか選ぶ） | C8: 県大会： | J8: 講習会：
A10: ３）学校名
A12: ４）校長名
A14: ５）学校所在地 | C14: 〒 | D14: - | F14: 住所
A16: ６）顧問名
A18: ７）電話番号 | C18: - -
A20: ８）引率者 | C20: 職名 | E20: 氏名
A22: ９）申込責任者 | C22: 氏名
A24: １０）記入日 | D24: 年 | F24: 月 | H24: 日
D31: 第40回高等学校総合文化祭合唱部門 福岡県大会
D32: 第41回高等学校総合文化祭合唱部門 福岡県大会
D33: 第42回高等学校総合文化祭合唱部門 福岡県大会
D34: 第43回高等学校総合文化祭合唱部門 福岡県大会
D37: 福岡県高文連合唱部門育成事業 第１回合唱講習会
D38: 福岡県高文連合唱部門育成事業 第２回合唱講習会
D39: 福岡県高文連40周年特別講習会

Sheet 印刷 参加申し込み用紙、参加生徒一覧
B1: =' 入力 '!C6 -> 0 | D1: =IF(' 入力 '!D8<>"", ' 入力 '!D8, ' 入力 '!K8) -> 0 | L1: 参加生徒一覧
A3: 合唱専門部会長 殿 | D3: =' 入力 '!C24 -> 0 | F3: 年 | G3: =' 入力 '!E24 -> 0 | H3: 月 | I3: =' 入力 '!G24 -> 0 | J3: 日
A5: 実施要項に記載のある生徒の個人情報の取り扱いについて承諾の上、参加生徒一覧を添えて申し込みます。
B6: 学校名 | C6: =' 入力 '!C10 -> 0 | H6: 校長名 | I6: =' 入力 '!C12 -> 0
N7: 職印
B8: 学校所在地 | C8: =' 入力 '!G14 -> 0
B10: 顧問名 | C10: =' 入力 '!C16 -> 0 | J10: 電話 | L10: =' 入力 '!C18 -> - -
A13: 学校名 | C13: =' 入力 '!C10 -> 0
A15: 所在地 | C15: 〒 | D15: =' 入力 '!D14 -> - | J15: TEL | L15: =' 入力 '!C18 -> - -
C16: =' 入力 '!G14 -> 0
B19: 氏名 | D19: 性別 | E19: 学年 | G19: 氏名 | I19: 性別 | J19: 学年 | L19: 氏名 | N19: 性別 | O19: 学年
A20: 1 | F20: 11 | K20: 21
A22: 2 | F22: 12 | K22: 22
A24: 3 | F24: 13 | K24: 23
A26: 4 | F26: 14 | K26: 24
A28: 5 | F28: 15 | K28: 25
A30: 6 | F30: 16 | K30: 26
A32: 7 | F32: 17 | K32: 27
A34: 8 | F34: 18 | K34: 28
A36: 9 | F36: 19 | K36: 29
A38: 10 | F38: 20 | K38: 30
A41: 実施要項に記載のある生徒の個人情報の取り扱いについて承諾します。
G42: =' 入力 '!C24 -> 0 | H42: 年 | I42: =' 入力 '!E24 -> 0 | J42: 月 | K42: =' 入力 '!G24 -> 0 | L42: 日
A43: 福岡県高等学校芸術・文化連盟会長 殿
B44: =' 入力 '!C10 -> 0 | I44: =' 入力 '!C12 -> 0
H45: 校長
A47: ※以下の点を参加生徒に周知してください。
B48: 「氏名、性別、学年、学校名、写真・音声・ビデオ映像等を、高文連の印刷物、教育委員会への報告および
B49: 報道機関への情報提供等として使用することがあります。」 | K49: =' 入力 '!D22 -> 0
H50: 申込責任者氏名

Sheet 印刷　参加生徒一覧 (不足用)
B1: =' 入力 '!C6 -> 0 | D1: =IF(' 入力 '!D8<>"", ' 入力 '!D8, ' 入力 '!K8) -> 0 | L1: 参加生徒一覧
A3: 学校名 | C3: =' 入力 '!C10 -> 0
A5: 所在地 | C5: 〒 | D5: =' 入力 '!D14 -> - | J5: TEL | L5: =' 入力 '!C18 -> - -
C6: =' 入力 '!G14 -> 0
B9: 氏名 | D9: 性別 | E9: 学年 | G9: 氏名 | I9: 性別 | J9: 学年 | L9: 氏名 | N9: 性別 | O9: 学年
A10: 31 | F10: 46 | K10: 61
A12: 32 | F12: 47 | K12: 62
A14: 33 | F14: 48 | K14: 63
A16: 34 | F16: 49 | K16: 64
A18: 35 | F18: 50 | K18: 65
A20: 36 | F20: 51 | K20: 66
A22: 37 | F22: 52 | K22: 67
A24: 38 | F24: 53 | K24: 68
A26: 39 | F26: 54 | K26: 69
A28: 40 | F28: 55 | K28: 70
A30: 41 | F30: 56 | K30: 71
A32: 42 | F32: 57 | K32: 72
... A38: 45 | F38: 60 | K38: 75
A41: 実施要項に記載のある生徒の個人情報の取り扱いについて承諾します。
G42: =' 入力 '!C24 -> 0 | H42: 年 | I42: =' 入力 '!E24 -> 0 | J42: 月 | K42: =' 入力 '!G24 -> 0 | L42: 日
A43: 福岡県高等学校芸術・文化連盟会長 殿
B44: =' 入力 '!C10 -> 0 | I44: =' 入力 '!C12 -> 0
H45: 校長
A47: ※以下の点を参加生徒に周知してください。
B48: 「氏名、性別、学年、学校名、写真・音声・ビデオ映像等を、高文連の印刷物、教育委員会への報告および
B49: 報道機関への情報提供等として使用することがあります。」 | K49: =' 入力 '!D22 -> 0
H50: 申込責任者氏名
