Workbook

Sheet 作成時の注意点
B2: 決算報告書作成時の注意点
C6: シート区分 | D6: 注意点
B7: 1 | C7: (A)表紙 | D7: 金額の部分には関数を入れています。 正しい値が表示されているか確認して下さい。
B8: 2 | C8: (B)決算 | D8: ①「1 収入（交付金）内訳」は、予算額と決算額は同額になります。 ②セルに「０」が表示されている部分には計算式が入っています。 計算式を変更しないようにお願いします。 ③「６ 講師謝金」の予算額には事業計画・予算支出計画書に記載した金額を 入力し、決算額は講師招聘届に記載した金額（合計金額）を入力して下さい。
B9: 3 | C9: （C)科目別 領収書一覧 | D9: ①領収書番号の記入欄は順序が入れ替わらないようにして下さい。 ②細目の欄には支出内容がわかるように必要事項を記載して下さい。 ③「2 需用費」の細目には、購入品名・単価・個数を記載して下さい。 ④費目が異なる物を同時に購入する場合は、領収書を分けて下さい。 <例>お茶(食糧費)と紙コップ(その他需要費)、弁当(食糧費)とレジ袋(その他需要費) ⑤行が不足したり、セルのサイズを変更したいときは、作成者で変更することを 認めますが、計算式に影響が出てないか、印刷したときに次ページにはみ出て いないか等を確認して下さい。 ⑥講師謝金の欄は、事業実施前に提出した「講師招聘届」を基にして作成して 下さい。領収書No.は、科目別領収書一覧全体で連番となるように付けて 下さい。
B10: 4 | C10: (D)科目別 領収書綴り | D10: ①領収書を貼り付けた台紙のページの表紙となります。また、金額記入欄の 下にある余白には領収書を貼らないで下さい。 ②領収書を貼る台紙は新しい用紙を使用して下さい。裏紙は使用禁止です。 ③講師謝金の領収書は、事業実施前に提出した「講師招聘届」（コピー可）を 代用して下さい。決算報告書提出後に、高文連事務局で銀行の謝金振込に 関する書類を添付して決算報告書を完成させます。
B11: 5 | C11: （E）講師旅費 の領収書 貼付用紙 | D11: ①講師旅費額の根拠となる積算も記載して下さい。 ※教育委員会からの指示です。 ②下半分のスペースは領収書を貼付します。 ③旅行業者等が発行した明細書があれば裏面に貼付して下さい。 ④講師１人につき用紙は１枚使用します。
B12: 6 | C12: （F)収支決算 総括表 | D12: ①全事業終了後、最後の決算報告書が完成したら直ちに作成して下さい。 ②運営費の残金と雑収入の合計金額を高文連事務局に返納して下さい
B13: 7 | C13: （G)雑収入 報告 | D13: （F)収支決算総括表と併せて提出して下さい。
B15: 【お願い】 決算報告書を提出するとき、（A）表紙と（B)収支決算書の間に事業報告書の コピーを綴じ込んで下さい。

Sheet (A)表紙
A3: 令和○○年度 ○○部門
A5: 収支決算報告書
B9: 事業名 ：
B11: 実施日 ： | D11: 令和 | F11: 年 | H11: 月 | J11: 日 | L11: 曜日 | M11: から
D12: 令和 | F12: 年 | H12: 月 | J12: 日 | L12: 曜日 | M12: まで
C14: 収入決算（交付金） | G14: 支出決算 | K14: 残金
B15: 運営費 | C15: ='(B)収支決算書'!F17 -> 0 | G15: ='(B)収支決算書'!F33 -> 0 | K15: =C15-G15 -> 0
B16: 講師謝金 | C16: ='(B)収支決算書'!F18 -> 0 | G16: ='(B)収支決算書'!F35 -> 0 | K16: =C16-G16 -> 0
B17: 計 | C17: =C16+C15 -> 0 | G17: =G16+G15 -> 0 | K17: =K16+K15 -> 0
B20: 専門部委員長名 ： | M20: ㊞
B22: 専門部会長名 ： | M22: ㊞
J24: 事務局 | L24: 会計士

Sheet (B)収支決算書
B1: 令和○年度○○部門
D2: 収 支 決 算 書
B4: 事業名
D8: 収入金額 一金 | F8: =F19 -> 0 | H8: 円
D10: 支出金額 一金 | F10: =F36 -> 0 | H10: 円
D12: 差引金額 一金 | F12: =F8-F10 -> 0 | G12: =F12-E12 -> 0 | H12: 円
B15: １ 収入(交付金)内訳
B16: 目番 | D16: 科目（区分） | E16: 予算額 | F16: 決算額 | G16: 差引額 | H16: 備 考
B17: 1 | D17: 運営費 | F17: =E17 -> 0 | G17: =E17-F17 -> 0
B18: 2 | D18: 講師謝金 | F18: =E18 -> 0 | G18: =E18-F18 -> 0
D19: 合 計 | E19: =E18+E17 -> 0 | F19: =F18+F17 -> 0 | G19: =E19-F19 -> 0
B21: ２ 支出内訳
B22: 区分 | C22: 目番 | D22: 科 目 | E22: 予算額 | F22: 決算額 | G22: 差引額 | H22: 備 考
B23: 運営費 | C23: 1 | D23: 報償費 | G23: =E23-F23 -> 0
C24: 2 | D24: 旅 費 | G24: =E24-F24 -> 0
C25: 3 | D25: ① 食糧費 | G25: =E25-F25 -> 0
D26: ② その他需用費 | G26: =E26-F26 -> 0
D27: 需用費計 | E27: =E25+E26 -> 0 | F27: =F25+F26 -> 0 | G27: =E27-F27 -> 0
C28: 4 | D28: ① 通信・運搬費 | G28: =E28-F28 -> 0
D29: ② その他役務費 | G29: =E29-F29 -> 0
D30: 役務費計 | E30: =E28+E29 -> 0 | F30: =F28+F29 -> 0 | G30: =E30-F30 -> 0
C31: 5 | D31: 委託費 | G31: =E31-F31 -> 0
C32: 6 | D32: 使用料・賃借料 | G32: =E32-F32 -> 0
C33: 運営費の計 | E33: =E23+E24+E27+E30+E31+E32 -> 0 | F33: =F23+F24+F27+F30+F31+F32 -> 0 | G33: =E33-F33 -> 0
B34: 謝金 | C34: 7 | D34: 講師謝金 | G34: =E34-F34 -> 0
C35: 講師謝金の計 | E35: =E34 -> 0 | F35: =F34 -> 0 | G35: =E35-F35 -> 0
B36: 合 計 | E36: =E35+E33 -> 0 | F36: =F35+F33 -> 0 | G36: =E36-F36 -> 0
E38: 記載責任者所属校名：
E40: 記載責任者名： | I40: ㊞

Sheet (C)科目別領収書一覧
A1: 科目別領収書一覧
B4: １ 報償費
B5: 領収書番号 | C5: 月 日 | D5: 細目（氏名・所属等） | H5: 金 額 | I5: 備 考
B9: 合 計 | H9: =SUM(H6:H8) -> 0
B12: ２ 旅費
B13: 領収書番号 | C13: 月 日 | D13: 細目（氏名・所属等） | H13: 金 額 | I13: 備 考
B24: 合 計 | H24: =SUM(H6:H23) -> 0
I26: 1/６
B27: ３ 需用費
B28: ①食糧費
B29: 領収書番号 | C29: 月 日 | D29: 細目（支出内容・数量等） | H29: 金 額 | I29: 備 考
B37: 小 計 | H37: =SUM(H30:H36) -> 0
I55: 2/６
B56: ②その他需用費 | D56: 細目には購入物品名と購入数の全てを記載してください。
B57: 領収書番号 | C57: 月 日 | D57: 細目（支出内容・数量等） | H57: 金 額 | I57: 備 考
B58: 記載例 | C58: 44442 | D58: ｺﾋﾟｰ用紙（300円×1締）、ﾎﾞｰﾙﾍﾟﾝ（120円×5本） ﾏｰｶｰ（150円×3本） | H58: ９８０
B72: 小 計 | H72: =SUM(H59:H71) -> 0
F74: 需用費の合計 | H74: =H72+H37 -> 0
I76: 3/６
B77: ４ 役務費
B78: ①通信・運搬費
B79: 領収書番号 | C79: 月 日 | D79: 細目（支出内容等） | H79: 金 額 | I79: 備 考
B89: 小 計 | H89: =SUM(H80:H88) -> 0
B92: ②その他役務費
B93: 領収書番号 | C93: 月 日 | D93: 細目（支出内容等） | H93: 金 額 | I93: 備 考
B99: 小 計 | H99: =SUM(H94:H98) -> 0
F101: 役務費の合計 | H101: =H99+H89 -> 0
I103: 4/６
B104: ５ 委託料
B105: 領収書番号 | C105: 月 日 | D105: 細目（支出内容等） | H105: 金 額 | I105: 備 考
B110: 合 計 | H110: =SUM(H106:H109) -> 0
B113: ６ 使用料及び賃借料
B114: 領収書番号 | C114: 月 日 | D114: 細目（支出内容等） | H114: 金 額 | I114: 備 考
B127: 合 計 | H127: =SUM(H115:H126) -> 0
I131: 5/６
B132: ７ 講師謝金
B133: 領収書番号 | C133: 月 日 | D133: 細目（氏名・所属等） | H133: 金 額 | I133: 備 考
B134: 17
B135: 18
B136: 19
...

Sheet (D)科目別領収書綴り
A5: 科目別領収書綴り
B9: １ 報償費 | C9: ='(C)科目別領収書一覧'!$H$9 -> 0
F11: 円
A32: 科目別領収書綴り
B36: ２ 旅費 | C36: ='(C)科目別領収書一覧'!$H$24 -> 0
F38: 円
A59: 科目別領収書綴り
B63: ３ 需用費 | C63: ='(C)科目別領収書一覧'!$H$74 -> 0
F65: 円
A86: 科目別領収書綴り
B90: ４ 役務費 | C90: ='(C)科目別領収書一覧'!$H$101 -> 0
F92: 円
A113: 科目別領収書綴り
B117: ５ 委託費 | C117: ='(C)科目別領収書一覧'!$H$110 -> 0
F119: 円
A140: 科目別領収書綴り
B144: ６ 使用料 及び 賃借料 | C144: ='(C)科目別領収書一覧'!$H$127 -> 0
F146: 円
A167: 科目別領収書綴り
B171: ７ 講師謝金 | C171: ='(C)科目別領収書一覧'!$H$147 -> 0
F173: 円

Sheet (E)講師旅費の領収書貼付用紙
C1: 講師等の旅費明細書（積算書）及び領収書貼付用紙
B4: 領収書Ｎｏ．
B6: 講師名 | I6: 自宅住所 勤務先住所
C8: 種別 | E8: 出発地（駅） | I8: 到着地（駅） | L8: 単価（片道） | N8: 数量 | O8: 金額 | R8: 備考
B9: １ | H9: ～ | O9: =L9*N9 -> 0
B10: ２ | H10: ～ | O10: =L10*N10 -> 0
B11: ３ | H11: ～ | O11: =L11*N11 -> 0
B12: ４ | H12: ～ | O12: =L12*N12 -> 0
B13: ５ | H13: ～ | O13: =L13*N13 -> 0
N14: 小計 | O14: =SUM(O9:Q13) -> 0
B15: 宿泊費（１泊） | E15: 泊数 | G15: 金額
G16: =B16*E16 -> 0 | L16: 旅費合計 | O16: =O14+G16 -> 0
B17: ※上限は17,000円
B19: 備考
B23: 【領収書貼付欄】
C56: 講師等の旅費領収書及び明細書（積算書）
B59: 領収書Ｎｏ．
B61: 講師名 | I61: 自宅住所 勤務先住所
C63: 種別 | E63: 出発地（駅） | I63: 到着地（駅） | L63: 単価（片道） | N63: 数量 | O63: 金額 | R63: 備考
B64: １ | H64: ～
B65: ２ | H65: ～
B66: ３ | H66: ～
B67: ４ | H67: ～
B68: ５ | H68: ～
N69: 小計 | O69: =SUM(O64:Q68) -> 0
B70: 宿泊費（１泊） | E70: 泊数 | G70: 金額
G71: =B71*E71 -> 0 | L71: 旅費合計 | O71: =O69+G71 -> 0
B72: ※上限は17,000円
B74: 備考
B78: 【領収書貼付欄】
C111: 講師等の旅費領収書及び明細書（積算書）
B114: 領収書Ｎｏ．
B116: 講師名 | I116: 自宅住所 勤務先住所
C118: 種別 | E118: 出発地（駅） | I118: 到着地（駅） | L118: 単価（片道） | N118: 数量 | O118: 金額 | R118: 備考
B119: １ | H119: ～
B120: ２ | H120: ～
B121: ３ | H121: ～
B122: ４ | H122: ～
B123: ５ | H123: ～
N124: 小計 | O124: =SUM(O119:Q123) -> 0
...

Sheet (E)の記入例
C1: 講師等の旅費領収書及び明細書（積算書） | W1: 講師等の旅費領収書及び明細書（積算書） | AQ1: 講師等の旅費領収書及び明細書（積算書）
B4: 領収書Ｎｏ． | D4: 1 | O4: 記載例１ | V4: 領収書Ｎｏ． | X4: 2 | AI4: 記載例２ | AP4: 領収書Ｎｏ． | AR4: 3 | BC4: 記載例３
B6: 講師名 | D6: 福岡 太郎 | I6: 自宅住所 勤務先住所 | K6: 福岡県 北九州市門司区 | V6: 講師名 | X6: 東京 花子 | AC6: 自宅住所 勤務先住所 | AE6: 東京都品川区 | AP6: 講師名 | AR6: 東京 一郎 | AW6: 自宅住所 勤務先住所 | AY6: 東京都品川区
C8: 種別 | E8: 出発地（駅） | I8: 到着地（駅） | L8: 単価（片道） | N8: 数量 | O8: 金額 | R8: 備考 | W8: 種別 | Y8: 出発地（駅） | AC8: 到着地（駅） | AF8: 単価（片道） | AH8: 数量 | AI8: 金額 | AL8: 備考 | AQ8: 種別 | AS8: 出発地（駅） | AW8: 到着地（駅） | AZ8: 単価（片道） | BB8: 数量 | BC8: 金額 | BF8: 備考
B9: １ | C9: ＪＲ | E9: 門司港 | H9: ～ | I9: 博多 | L9: 1470 | N9: 2 | O9: =L9*N9 -> 2940 | V9: １ | W9: 私鉄 | Y9: 品川 | AB9: ～ | AC9: 羽田空港 | AF9: 410 | AH9: 2 | AI9: =AF9*AH9 -> 820 | AP9: １ | AQ9: 私鉄 | AS9: 品川 | AV9: ～ | AW9: 羽田空港 | AZ9: 410 | BB9: 2 | BC9: =AZ9*BB9 -> 820
B10: ２ | C10: 地下鉄 | E10: 博多 | H10: ～ | I10: 西新 | L10: 260 | N10: 2 | O10: =L10*N10 -> 520 | V10: ２ | W10: 飛行機 | Y10: 羽田空港 | AB10: ～ | AC10: 福岡空港 | AF10: 21290 | AH10: 2 | AI10: =AF10*AH10 -> 42580 | AP10: ２ | AQ10: 飛行機 | AS10: 羽田空港 | AV10: ～ | AW10: 福岡空港 | AZ10: 38500 | BB10: 1 | BC10: =AZ10*BB10 -> 38500 | BF10: ﾎﾃﾙﾊﾟｯｸ
B11: ３ | H11: ～ | O11: =L11*N11 -> 0 | V11: ３ | W11: 地下鉄 | Y11: 福岡空港 | AB11: ～ | AC11: 西新 | AF11: 300 | AH11: 2 | AI11: =AF11*AH11 -> 600 | AP11: ３ | AQ11: 地下鉄 | AS11: 福岡空港 | AV11: ～ | AW11: 西新 | AZ11: 300 | BB11: 2 | BC11: =AZ11*BB11 -> 600
B12: ４ | H12: ～ | O12: =L12*N12 -> 0 | V12: ４ | AB12: ～ | AI12: =AF12*AH12 -> 0 | AP12: ４ | AV12: ～
B13: ５ | H13: ～ | O13: =L13*N13 -> 0 | V13: ５ | AB13: ～ | AI13: =AF13*AH13 -> 0 | AP13: ５ | AV13: ～
N14: 小計 | O14: =SUM(O9:Q13) -> 3460 | AH14: 小計 | AI14: =SUM(AI9:AK13) -> 44000 | BB14: 小計 | BC14: =SUM(BC9:BE13) -> 39920
B15: 宿泊費（１泊） | E15: 泊数 | G15: 金額 | V15: 宿泊費（１泊） | Y15: 泊数 | AA15: 金額 | AP15: 宿泊費（１泊） | AS15: 泊数 | AU15: 金額
G16: =B16*E16 -> 0 | L16: 旅費合計 | O16: =O14+G16 -> 3460 | V16: 9200 | Y16: 1 | AA16: =V16*Y16 -> 9200 | AF16: 旅費合計 | AI16: =AI14+AA16 -> 53200 | AU16: =AP16*AS16 -> 0 | AZ16: 旅費合計 | BC16: =BC14+AU16 -> 39920
B17: ※上限は10,900円 | V17: ※上限は10,900円 | AP17: ※上限は10,900円 | AS17: ↑ ﾎﾃﾙﾊﾟｯｸの時は記入しない
B19: 備考 | V19: 備考 | X19: 飛行機およびホテルの領収書（ｺﾋﾟｰ）を裏面に添付しています。 | AP19: 備考 | AR19: ホテルパックの明細書は裏面に貼付しています。
V22: 飛行機、新幹線、在来線の特急を利用した場合は、 業者発行の明細書や領収書等の資料を添付してください。（コピー可） | AP22: 飛行機、新幹線、在来線の特急を利用した場合は、 業者発行の明細書や領収書等の資料を添付してください。（コピー可）

Sheet (F-B)収支決算総括（全事業終了後に提出)
A2: 令和〇年度福岡県高等学校芸術・文化連盟
A4: ○○部門
A5: 収支決算総括表
A7: 事業 区分 | B7: 事業名 | C7: 決 算 | G7: 事業ごとの 差引金 （講師謝金を含む）
C8: 費用 区分 | D8: 収入（交付金） | E8: 支出 | F8: 差引金額
A9: 大会 | C9: 運営費 | F9: =D9-E9 -> 0 | G9: =F9+F10 -> 0
C10: 謝金 | F10: =D10-E10 -> 0
C11: 運営費 | F11: =D11-E11 -> 0 | G11: =F11+F12 -> 0
C12: 謝金 | F12: =D12-E12 -> 0
B13: 大会の計 | C13: 運営費 | D13: =D11+D9 -> 0 | E13: =E11+E9 -> 0 | F13: =F11+F9 -> 0 | G13: =F13+F14 -> 0
C14: 謝金 | D14: =D12+D10 -> 0 | E14: =E12+E10 -> 0 | F14: =F12+F10 -> 0
A15: 助成 | C15: 運営費 | F15: =D15-E15 -> 0 | G15: =F15+F16 -> 0
C16: 謝金 | F16: =D16-E16 -> 0
C17: 運営費 | F17: =D17-E17 -> 0 | G17: =F17+F18 -> 0
C18: 謝金 | F18: =D18-E18 -> 0
C19: 運営費 | F19: =D19-E19 -> 0 | G19: =F19+F20 -> 0
C20: 謝金 | F20: =D20-E20 -> 0
C21: 運営費 | F21: =D21-E21 -> 0 | G21: =F21+F22 -> 0
C22: 謝金 | F22: =D22-E22 -> 0
B23: 助成の計 | C23: 運営費 | D23: =D21+D19+D17+D15 -> 0 | E23: =E21+E19+E17+E15 -> 0 | F23: =F21+F19+F17+F15 -> 0 | G23: =F23+F24 -> 0
C24: 謝金 | D24: =D22+D20+D18+D16 -> 0 | E24: =E22+E20+E18+E16 -> 0 | F24: =F22+F20+F18+F16 -> 0
A25: 事務局費 | F25: =D25-E25 -> 0
A26: 合計 | C26: 運営費 | D26: =D25+D23+D13 -> 0 | E26: =E25+E23+E13 -> 0 | F26: =F25+F23+F13 -> 0 | G26: =F26+F27 -> 0
C27: 謝金 | D27: =D24+D14 -> 0 | E27: =E24+E14 -> 0 | F27: =F24+F14 -> 0
B31: 専門部委員長名： | G31: ㊞
B34: 専門部会長名： | G34: ㊞

Sheet (F-C)収支決算総括（全事業終了後に提出)
A2: 令和〇年度福岡県高等学校芸術・文化連盟
A4: ○○部門
A5: 収支決算総括表
A7: 事業 区分 | B7: 事業名 | C7: 決 算 | G7: 事業ごとの 差引金 （講師謝金を含む）
C8: 費用 区分 | D8: 収入（交付金） | E8: 支出 | F8: 差引金額
A9: 大会 | C9: 運営費 | F9: =D9-E9 -> 0 | G9: =F9+F10 -> 0
C10: 謝金 | F10: =D10-E10 -> 0
C11: 運営費 | F11: =D11-E11 -> 0 | G11: =F11+F12 -> 0
C12: 謝金 | F12: =D12-E12 -> 0
B13: 大会の計 | C13: 運営費 | D13: =D11+D9 -> 0 | E13: =E11+E9 -> 0 | F13: =F11+F9 -> 0 | G13: =F13+F14 -> 0
C14: 謝金 | D14: =D12+D10 -> 0 | E14: =E12+E10 -> 0 | F14: =F12+F10 -> 0
A15: 助成 | C15: 運営費 | F15: =D15-E15 -> 0 | G15: =F15+F16 -> 0
C16: 謝金 | F16: =D16-E16 -> 0
C17: 運営費 | F17: =D17-E17 -> 0 | G17: =F17+F18 -> 0
C18: 謝金 | F18: =D18-E18 -> 0
C19: 運営費 | F19: =D19-E19 -> 0 | G19: =F19+F20 -> 0
C20: 謝金 | F20: =D20-E20 -> 0
C21: 運営費 | F21: =D21-E21 -> 0 | G21: =F21+F22 -> 0
C22: 謝金 | F22: =D22-E22 -> 0
C23: 運営費 | G23: =F23+F24 -> 0
C24: 謝金
B25: 助成の計 | C25: 運営費 | D25: =D15+D17+D19+D21+D23 -> 0 | E25: =E15+E17+E19+E21+E23 -> 0 | F25: =F15+F17+F19+F21+F23 -> 0 | G25: =F25+F26 -> 0
C26: 謝金 | D26: =D16+D18+D20+D22+D24 -> 0 | E26: =E16+E18+E20+E22+E24 -> 0 | F26: =F16+F18+F20+F22+F24 -> 0
A27: 事務局費 | F27: =D27-E27 -> 0
A28: 合計 | C28: 運営費 | D28: =D27+D25+D13 -> 0 | E28: =E27+E25+E13 -> 0 | F28: =F27+F25+F13 -> 0 | G28: =F28+F29 -> 0
C29: 謝金 | D29: =D26+D14 -> 0 | E29: =E26+E14 -> 0 | F29: =F26+F14 -> 0
B31: 専門部委員長名： | G31: ㊞
B34: 専門部会長名： | G34: ㊞

Sheet (F)の記入例
A2: 令和４年度福岡県高等学校芸術・文化連盟
A4: ○○部門
A5: 収支決算総括表
A7: 事業 区分 | B7: 事業名 | C7: 決 算 | G7: 事業ごとの 差引金 （講師謝金を含む）
C8: 費用 区分 | D8: 収入（交付金） | E8: 支出 | F8: 差引金額
A9: 大会 | B9: 令和４年度県大会 | C9: 運営費 | D9: 100000 | E9: 93000 | F9: =D9-E9 -> 7000 | G9: =F9+F10 -> 7000
C10: 謝金 | D10: 30000 | E10: 30000 | F10: =D10-E10 -> 0
C11: 運営費 | F11: =D11-E11 -> 0 | G11: =F11+F12 -> 0
C12: 謝金 | F12: =D12-E12 -> 0
C13: 運営費 | F13: =D13-E13 -> 0 | G13: =F13+F14 -> 0
C14: 謝金 | F14: =D14-E14 -> 0
B15: 大会の計 | C15: 運営費 | D15: =D9+D11+D13 -> 100000 | E15: =E9+E11+E13 -> 93000 | F15: =F9+F11+F13 -> 7000 | G15: =F15+F16 -> 7000
C16: 謝金 | D16: =D10+D12+D14 -> 30000 | E16: =E10+E12+E14 -> 30000 | F16: =F10+F12+F14 -> 0
A17: 助成 | B17: 令和４年度 生徒実技講習会 | C17: 運営費 | D17: 20000 | E17: 25000 | F17: =D17-E17 -> -5000 | G17: =F17+F18 -> -5000
C18: 謝金 | D18: 40000 | E18: 40000 | F18: =D18-E18 -> 0
C19: 運営費 | F19: =D19-E19 -> 0 | G19: =F19+F20 -> 0
C20: 謝金 | F20: =D20-E20 -> 0
C21: 運営費 | F21: =D21-E21 -> 0 | G21: =F21+F22 -> 0
C22: 謝金 | F22: =D22-E22 -> 0
B23: 助成の計 | C23: 運営費 | D23: =D17+D19+D21 -> 20000 | E23: =E17+E19+E21 -> 25000 | F23: =F17+F19+F21 -> -5000 | G23: =F23+F24 -> -5000
C24: 謝金 | D24: =D18+D20+D22 -> 40000 | E24: =E18+E20+E22 -> 40000 | F24: =F18+F20+F22 -> 0
A25: 事務局費 | D25: 50000 | E25: 45000 | F25: =D25-E25 -> 5000
A26: 合計 | C26: 運営費 | D26: =D25+D23+D15 -> 170000 | E26: =E25+E23+E15 -> 163000 | F26: =F25+F23+F15 -> 7000 | G26: =F26+F27 -> 7000
C27: 謝金 | D27: =D24+D16 -> 70000 | E27: =E24+E16 -> 70000 | F27: =F24+F16 -> 0
B31: 専門部委員長名： | G31: ㊞
B34: 専門部会長名： | G34: ㊞

Sheet (F)の注意点
A2: 令和○年度福岡県高等学校芸術・文化連盟
A4: ○○部門
A5: 収支決算総括表
A7: 事業 区分 | B7: 事業名 | C7: 決 算 | G7: 事業ごとの 差引金 （講師謝金を含む）
C8: 費用 区分 | D8: 収入（交付金） | E8: 支出 | F8: 差引金額
A9: 大会 | B9: 大会Ⅰ | C9: 運営費 | D9: ○○○ | E9: ○○○ | F9: Ａ
C10: 謝金
B11: 大会Ⅱ | C11: 運営費 | D11: ○○○ | E11: ○○○ | F11: Ｂ
C12: 謝金
C13: 運営費
C14: 謝金
B15: 大会の計 | C15: 運営費
C16: 謝金
A17: 助成 | B17: 生徒実技講習会① | C17: 運営費 | D17: ○○○ | E17: ○○○ | F17: Ｃ
C18: 謝金
B19: 生徒実技講習会② | C19: 運営費 | D19: ○○○ | E19: ○○○ | F19: Ｄ
C20: 謝金
C21: 運営費
C22: 謝金
B23: 助成の計 | C23: 運営費
C24: 謝金
A25: 事務局費 | D25: ○○○ | E25: ○○○ | F25: Ｅ
A26: 合計 | C26: 運営費 | F26: Ｚ | G26: Ｚの金額は 高文連事務局 への返金額
C27: 謝金
A28: ○年度途中で運営費と謝金の間で予算の移動はできません。 ○運営費の余剰金で予定外の講師を招聘することはできません。
B31: 専門部委員長名： | G31: ㊞
B33: 専門部会長名： | G33: ㊞

Sheet (G)雑収入報告（全事業終了後に提出）
B5: 令和○年度福岡県高等学校芸術・文化連盟
B8: ○○部門
B11: 雑収入決算報告書
D23: 預金利息 | G23: 預金利息以外 | J23: 合計 | M23: 備考（預金利息以外の理由）
B25: 雑収入 | J25: =D25+G25 -> 0
B30: ＊預金利息以外の雑収入の例＊
B31: ①前年度に支払っていた会場前納金が返却された場合
B32: ②協賛金等が入った場合
C48: 専門部委員長名： | N48: ㊞
D51: 専門部会長名： | N51: ㊞
